BEGIN:VCALENDAR
VERSION:2.0
PRODID:-//ChamberMaster//Event Calendar 2.0//EN
METHOD:PUBLISH
X-PUBLISHED-TTL:P3D
REFRESH-INTERVAL:P3D
CALSCALE:GREGORIAN
BEGIN:VEVENT
DTSTART;VALUE=DATE:20260321
DTEND;VALUE=DATE:20260322
TRANSP:TRANSPARENT
X-MICROSOFT-CDO-ALLDAYEVENT:TRUE
SUMMARY:Lincoln-Way Foundation Midnight and Moonlight Dinner Gala
DESCRIPTION:Join us for an unforgettable evening in support of Lincoln-Way students!\n\nEnjoy a night of dining\, drinks\, and lively entertainment featuring Howl at the Moon Dueling Pianos. This special fundraising event benefits the students of Lincoln-Way High School District 210 through educational grants and scholarships.\n\nSponsorship opportunities are available for businesses looking to make an impact while gaining valuable community exposure.
X-ALT-DESC;FMTTYPE=text/html:<p><strong>Join us for an unforgettable evening in support of Lincoln-Way students!</strong><br />\nEnjoy a night of dining\, drinks\, and lively entertainment featuring <em>Howl at the Moon Dueling Pianos</em>. This special fundraising event benefits the students of Lincoln-Way High School District 210 through educational grants and scholarships.</p>\n\n<p>Sponsorship opportunities are available for businesses looking to make an impact while gaining valuable community exposure.</p>\n
LOCATION:Odyssey
UID:e.430.15980
SEQUENCE:3
DTSTAMP:20260422T083706Z
URL:https://tools.frankfortchamber.com/events/details/lincoln-way-foundation-midnight-and-moonlight-dinner-gala-15980
END:VEVENT

END:VCALENDAR
