BEGIN:VCALENDAR
VERSION:2.0
PRODID:-//ChamberMaster//Event Calendar 2.0//EN
METHOD:PUBLISH
X-PUBLISHED-TTL:P3D
REFRESH-INTERVAL:P3D
CALSCALE:GREGORIAN
BEGIN:VEVENT
DTSTART:20210209T060000Z
DTEND:20210315T050000Z
X-MICROSOFT-CDO-ALLDAYEVENT:FALSE
SUMMARY:Frankfort Lions Club--Sock Drive
DESCRIPTION:The Frankfort Lions Club is collecting new socks to donate to clients of the Frankfort Township Food Pantry. Lions' goal is to donate a six pack of new socks to the client men\, women\, and children of the pantry (350). Lions believe that if your feet are warm\, so will the rest of you be warm. Our mantra for this drive is "care\, share\, give a pair." Please donate as many pair as you can. Drop boxes are located throughout town\, and Lions will provide a pick up service if getting to a drop location is hard. \n\nFor pick up please call Lion Joe 185-245-3904
X-ALT-DESC;FMTTYPE=text/html:The Frankfort Lions Club is collecting new socks to donate to clients of the Frankfort Township Food Pantry. Lions&#39\; goal is to donate a six pack of new socks to the client men\, women\, and children of the pantry (350). Lions believe that if your feet are warm\, so will the rest of you be warm. Our mantra for this drive is &quot\;care\, share\, give a pair.&quot\; Please donate as many pair as you can. Drop boxes are located throughout town\, and Lions will provide a pick up service if getting to a drop location is hard.&nbsp\;<br />\nFor pick up please call Lion Joe 185-245-3904
LOCATION:Drop boxes are located at: Founders Center\, 140 Oak Street Frankfort Public Library\, 21119 S Pfeiffer Road Chamber Office\, 123 Kansas Street Frankfort Village Hall\, 432 W Nebraska St. Hicory Creek Church\, 10660 W Lincoln Hwy Hickory Creek School\,
UID:e.430.14165
SEQUENCE:3
DTSTAMP:20260423T031947Z
URL:https://tools.frankfortchamber.com/events/details/frankfort-lions-club-sock-drive-14165
END:VEVENT

END:VCALENDAR
