BEGIN:VCALENDAR
VERSION:2.0
PRODID:-//ChamberMaster//Event Calendar 2.0//EN
METHOD:PUBLISH
X-PUBLISHED-TTL:P3D
REFRESH-INTERVAL:P3D
CALSCALE:GREGORIAN
BEGIN:VEVENT
DTSTART:20260312T220000Z
DTEND:20260313T010000Z
X-MICROSOFT-CDO-ALLDAYEVENT:FALSE
SUMMARY:Frankfort Culinary Caravan\, a fundraiser for MorningStar Mission
DESCRIPTION:Jump on the bus and ride with us to 3 area Frankfort restaurants!  We'll eat at each one (included in the price of your ticket) and safely return you to the beginning point (TBD in January 2026 so watch for future updates) for dessert and coffee!        ??? call Peggy Sue at MorningStar Mission (815)722-5780.
X-ALT-DESC;FMTTYPE=text/html:Jump on the bus and ride with us to 3 area Frankfort restaurants!&nbsp\; We&#39\;ll eat at each one (included in the price of your ticket) and safely return you to the beginning point (TBD in January 2026 so watch for future updates) for dessert and coffee!&nbsp\; &nbsp\; &nbsp\; &nbsp\; ??? call Peggy Sue at MorningStar Mission (815)722-5780.
LOCATION:TBD
UID:e.430.15971
SEQUENCE:3
DTSTAMP:20260421T045722Z
URL:https://tools.frankfortchamber.com/events/details/frankfort-culinary-caravan-a-fundraiser-for-morningstar-mission-15971
END:VEVENT

END:VCALENDAR
