BEGIN:VCALENDAR
VERSION:2.0
PRODID:-//ChamberMaster//Event Calendar 2.0//EN
METHOD:PUBLISH
X-PUBLISHED-TTL:P3D
REFRESH-INTERVAL:P3D
CALSCALE:GREGORIAN
BEGIN:VEVENT
DTSTART:20260315T180000Z
DTEND:20260315T230000Z
X-MICROSOFT-CDO-ALLDAYEVENT:FALSE
SUMMARY:Camp Manitoqua S'Winter
DESCRIPTION:Have you ever heard your child tell camp stories and imagined what it's truly like? Have you wondered what it would be like if you were a camper yourself? We have exciting news for you! This winter Camp Manitoqua is offering our summer in winter experience\, S'Winter\, where you as a parent can also participate in camp! You and your camper will have a day together where you get to take part in some of the Camp classics like the Art Hut\, a Chapel service\, and Portable Initiatives! We're excited to offer this experience to 1st through 8th graders and can't wait to see you and your camper enjoy this S'Winter day together!\n\nGrades 1st - 8th and parent(s)
X-ALT-DESC;FMTTYPE=text/html:<p><span style="color:black">Have you ever heard your child tell camp stories and imagined what it&rsquo\;s truly like? Have you wondered what it would be like if you were a camper yourself? We have exciting news for you! This winter Camp Manitoqua is offering our summer in winter experience\, S&rsquo\;Winter\, where you as a parent can also participate in camp! You and your camper will have a day together where you get to take part in some of the Camp classics like the Art Hut\, a Chapel service\, and Portable Initiatives! We&rsquo\;re excited to offer this experience to 1st through 8th graders and can&rsquo\;t wait to see you and your camper enjoy this S&rsquo\;Winter day together!</span></p>\n\n<p><strong>Grades 1st - 8th and parent(s)</strong></p>\n\n<div>&nbsp\;</div>\n
LOCATION:Camp Manitoqua 8122 W. Sauk Trail Frankfort\, IL 60423
UID:e.430.15912
SEQUENCE:3
DTSTAMP:20260421T045152Z
URL:https://tools.frankfortchamber.com/events/details/camp-manitoqua-s-winter-15912
END:VEVENT

END:VCALENDAR
