BEGIN:VCALENDAR
VERSION:2.0
PRODID:-//ChamberMaster//Event Calendar 2.0//EN
METHOD:PUBLISH
X-PUBLISHED-TTL:P3D
REFRESH-INTERVAL:P3D
CALSCALE:GREGORIAN
BEGIN:VEVENT
DTSTART:20191017T150000Z
DTEND:20191017T160000Z
X-MICROSOFT-CDO-ALLDAYEVENT:FALSE
SUMMARY:Balance & Dizziness Screening
DESCRIPTION:Franciscan Health-METT Therapy Services is offering a balance and dizziness screening where a licesned physical therapist will perform individualized tetsing and make recommendation on how to improve balance and reduce dizziness. Call (708) 679-2940 to reserve your spot today!
X-ALT-DESC;FMTTYPE=text/html:Franciscan Health-METT Therapy Services is offering a balance and dizziness screening where a licesned physical therapist will perform individualized tetsing and make recommendation on how to improve balance and reduce dizziness. Call (708) 679-2940 to reserve your spot today!
LOCATION:
UID:e.430.11999
SEQUENCE:3
DTSTAMP:20260421T203820Z
URL:https://tools.frankfortchamber.com/events/details/balance-dizziness-screening-10-17-2019-11999
END:VEVENT

END:VCALENDAR
