BEGIN:VCALENDAR
VERSION:2.0
PRODID:-//ChamberMaster//Event Calendar 2.0//EN
METHOD:PUBLISH
X-PUBLISHED-TTL:P3D
REFRESH-INTERVAL:P3D
CALSCALE:GREGORIAN
BEGIN:VEVENT
DTSTART:20220625T000000Z
DTEND:20220625T013000Z
X-MICROSOFT-CDO-ALLDAYEVENT:FALSE
SUMMARY:Arf & Moana
DESCRIPTION:Two amazing kids performances - tickets are $12.50 in advance at spotlightac.com or $15 at the door
X-ALT-DESC;FMTTYPE=text/html:Two amazing kids performances - tickets are $12.50 in advance at spotlightac.com or $15 at the door
LOCATION:Lincoln-Way East High School
UID:e.430.14518
SEQUENCE:3
DTSTAMP:20260424T031824Z
URL:https://tools.frankfortchamber.com/events/details/arf-moana-14518
END:VEVENT

END:VCALENDAR
