BEGIN:VCALENDAR
VERSION:2.0
PRODID:-//ChamberMaster//Event Calendar 2.0//EN
METHOD:PUBLISH
X-PUBLISHED-TTL:P3D
REFRESH-INTERVAL:P3D
CALSCALE:GREGORIAN
BEGIN:VEVENT
DTSTART:20260312T220000Z
DTEND:20260313T010000Z
X-MICROSOFT-CDO-ALLDAYEVENT:FALSE
SUMMARY:Ageless Rituals Med Spa Grand Opening
DESCRIPTION:We're thrilled to announce the Grand Opening of Ageless Rituals Med Spa   your new destination for results-driven skincare and aesthetic treatments.\n\nFrom Botox and fillers to advanced facials\, laser treatments\, and body contouring\, our expert team is here to help you look refreshed\, confident\, and naturally beautiful.\n\nCome tour our beautiful new space\, meet our providers\, enjoy special event-only pricing\, and celebrate with us!\n\nGlow starts here. ?
X-ALT-DESC;FMTTYPE=text/html:<p>We&rsquo\;re thrilled to announce the Grand Opening of <strong>Ageless Rituals Med Spa</strong>&nbsp\;&mdash\; your new destination for results-driven skincare and aesthetic treatments.</p>\n\n<p>From Botox and fillers to advanced facials\, laser treatments\, and body contouring\, our expert team is here to help you look refreshed\, confident\, and naturally beautiful.</p>\n\n<p>Come tour our beautiful new space\, meet our providers\, enjoy special event-only pricing\, and celebrate with us!</p>\n\n<p>Glow starts here. ?</p>\n
LOCATION:Ageless Rituals Med Spa 9995 Lincoln Highway Suite A Frankfort IL\, 60423
UID:e.430.15988
SEQUENCE:3
DTSTAMP:20260422T083706Z
URL:https://tools.frankfortchamber.com/events/details/ageless-rituals-med-spa-grand-opening-15988
END:VEVENT

END:VCALENDAR
