BEGIN:VCALENDAR
VERSION:2.0
PRODID:-//ChamberMaster//Event Calendar 2.0//EN
METHOD:PUBLISH
X-PUBLISHED-TTL:P3D
REFRESH-INTERVAL:P3D
CALSCALE:GREGORIAN
BEGIN:VEVENT
DTSTART:20240502T163000Z
DTEND:20240502T180000Z
X-MICROSOFT-CDO-ALLDAYEVENT:FALSE
SUMMARY:2024 May Lunch & Learn
DESCRIPTION:Join us for our new Lunch & Learn series! \n\n\n\nThe third presentation in our series will be focused on "AI (Artificial Intelligence) for Your Business" presented by Dan Peterson from Flipswitch Social Media.
X-ALT-DESC;FMTTYPE=text/html:<strong><span style="font-size: 18px\;">Join us for our new Lunch &amp\; Learn series!&nbsp\;</span></strong><br />\n<br />\n<span style="font-family:arial\;"><span style="font-size:18px\;">The third presentation in our series will be focused on&nbsp\;<span class="OYPEnA text-decoration-none text-strikethrough-none" style="font-weight: 700\;">&quot\;AI (Artificial Intelligence) for Your Business&quot\; presented by Dan Peterson from Flipswitch Social Media.&nbsp\;</span></span></span><br />\n<br />\n&nbsp\;
LOCATION:Frankfort Public Library 21119 S. Pfeiffer Road Frankfort\, IL 60423
UID:e.430.15093
SEQUENCE:3
DTSTAMP:20260424T133254Z
URL:https://tools.frankfortchamber.com/events/details/2024-may-lunch-learn-15093
END:VEVENT

END:VCALENDAR
