BEGIN:VCALENDAR
VERSION:2.0
PRODID:-//ChamberMaster//Event Calendar 2.0//EN
METHOD:PUBLISH
X-PUBLISHED-TTL:P3D
REFRESH-INTERVAL:P3D
CALSCALE:GREGORIAN
BEGIN:VEVENT
DTSTART:20240314T223000Z
DTEND:20240315T013000Z
X-MICROSOFT-CDO-ALLDAYEVENT:FALSE
SUMMARY:2024 Leadership in Style Fashion Show
DESCRIPTION:The Frankfort Chamber is pleased to present our Inaugural Leadership in Style Fashion Show in conjunction with National Women's History Month.  Come out for a night of fun and fashion while we celebrate women in the workforce!
X-ALT-DESC;FMTTYPE=text/html:<span style="font-size:18px\;"><span style="font-family:arial\;">The Frankfort Chamber is pleased to present our Inaugural Leadership in Style Fashion Show in conjunction with National Women&#39\;s History Month.&nbsp\; Come out for a night of fun and fashion while we celebrate women in the workforce!</span></span>
LOCATION:CD&ME 23320 S. LaGrange Road Frankfort\, IL
UID:e.430.15080
SEQUENCE:3
DTSTAMP:20260422T043020Z
URL:https://tools.frankfortchamber.com/events/details/2024-leadership-in-style-fashion-show-15080
END:VEVENT

END:VCALENDAR
