BEGIN:VCALENDAR
VERSION:2.0
PRODID:-//ChamberMaster//Event Calendar 2.0//EN
METHOD:PUBLISH
X-PUBLISHED-TTL:P3D
REFRESH-INTERVAL:P3D
CALSCALE:GREGORIAN
BEGIN:VEVENT
DTSTART;VALUE=DATE:20230101
DTEND;VALUE=DATE:20230520
TRANSP:TRANSPARENT
X-MICROSOFT-CDO-ALLDAYEVENT:TRUE
SUMMARY:2023 Concerts on the Green
DESCRIPTION:The Frankfort Chamber of Commerce is seeking your support for its annual Concerts on the Green series.\n\n\n\nThe Concerts are held Sunday evenings from Father's Day to the end of August at Breidert Green in historic downtown Frankfort.  The concerts attract visitors from all over the area and feature a variety of music from pop to country to big bands and more. Attendance ranges from 500 to 1100 people each week. Independent\, private sponsors like you make this fine program possible. Since 1998\, we have asked for your support\, so that we may continue to offer an excellent array of entertainment. Please help us make this local event huge success once again!
X-ALT-DESC;FMTTYPE=text/html:<div><strong><span style="font-size: 18px\;"><span style="color: rgb(0\, 100\, 0)\;">The Frankfort Chamber of Commerce is seeking your support for its annual Concerts on the Green series.</span></span></strong><br />\n<br />\n<span style="color: rgb(51\, 51\, 51)\; font-family: sans-serif\, Arial\, Verdana\, &quot\;Trebuchet MS&quot\;\; font-size: 18px\; background-color: rgb(255\, 255\, 255)\;">The Concerts are held Sunday evenings from Father&#39\;s Day to the end of August at Breidert Green in historic downtown Frankfort.&nbsp\;&nbsp\;</span><span style="font-family:arial\;"><span style="font-size:18px\;">The concerts attract visitors from all over the area and feature a variety of music from&nbsp\;pop to country to big bands and more. Attendance ranges from 500 to 1100 people each week. Independent\, private sponsors like you make this fine program possible. Since 1998\, we have asked for your support\,&nbsp\;so that we may continue to offer an excellent array of entertainment. Please help us make this local event huge success once again!</span></span></div>\n
LOCATION:Breidert Green\, Kansas & White St.\, & Downtown Frankfort
UID:e.430.14583
SEQUENCE:3
DTSTAMP:20260425T112724Z
URL:https://tools.frankfortchamber.com/events/details/2023-concerts-on-the-green-14583
END:VEVENT

END:VCALENDAR
