BEGIN:VCALENDAR
VERSION:2.0
PRODID:-//ChamberMaster//Event Calendar 2.0//EN
METHOD:PUBLISH
X-PUBLISHED-TTL:P3D
REFRESH-INTERVAL:P3D
CALSCALE:GREGORIAN
BEGIN:VEVENT
DTSTART:20200121T133000Z
DTEND:20200121T153000Z
X-MICROSOFT-CDO-ALLDAYEVENT:FALSE
SUMMARY:2020 January Meet\, Greet & Network
DESCRIPTION:MEET\, GREET & NETWORK\n\n \n\nFrankfort Public Library\n\n21119 S Pfeiffer Rd.\n\n\n\nDo a friend a favor\, invite them to Meet\, Greet & Network. \n\nThis FREE monthly Frankfort Chamber of Commerce event is open to the public.  \n\nGrab a cup of coffee and a bagel or a fruit parfait and network from 7:30-8am\n\nThen learn a little bit about our breakfast sponsor for the month and enjoy a short educational presentation by one of our Chamber members or guest speakers. \n\nWe will then welcome new members and allow them a minute to introduce their business. Other members in attendance will have 30-seconds to tell the group about their business or organization.\n\nDo a friend a favor...invite them to Meet\, Greet & Network!
X-ALT-DESC;FMTTYPE=text/html:<div style="text-align: center\;">\n<h4 style="text-align: left\;"><span style="color:#006699\;"><span style="font-size:36px\;"><strong><span style="font-family: arial\;">MEET\, GREET &amp\; NETWORK</span></strong></span></span><br />\n&nbsp\;</h4>\n\n<div style="color: rgb(51\, 51\, 51)\; text-align: left\;" trebuchet=""><span style="font-size:24px\;"><strong>Frankfort Public Library<br />\n2</strong></span><span style="font-size:24px\;"><strong>1119 S Pfeiffer Rd.</strong></span><br />\n<br />\n<span style="font-size:20px\;">Do a friend a favor\, invite them to Meet\, Greet &amp\; Network.&nbsp\;<br />\nThis FREE monthly Frankfort Chamber of Commerce event is open to the public. &nbsp\;<br />\nGrab a cup of coffee and a bagel or a fruit parfait and network from&nbsp\;7:30-8am</span></div>\n\n<div style="color: rgb(51\, 51\, 51)\; text-align: left\;" trebuchet=""><span style="font-size:20px\;">Then learn a little bit about our breakfast sponsor for&nbsp\;the month and enjoy a short educational presentation by one of our Chamber members or guest speakers.&nbsp\;<br />\nWe will then welcome new members and allow them a minute to introduce their business. Other members in attendance will have 30-seconds to tell the group about their business or organization.</span></div>\n\n<p style="color: rgb(51\, 51\, 51)\; text-align: left\;" trebuchet=""><span style="font-size:20px\;">Do a friend a favor...invite them to Meet\, Greet &amp\; Network!</span></p>\n</div>\n
LOCATION:Frankfort Public Library 21119 S. Pfeiffer Rd
UID:e.430.13849
SEQUENCE:3
DTSTAMP:20260423T051237Z
URL:https://tools.frankfortchamber.com/events/details/2020-january-meet-greet-network-13849
END:VEVENT

END:VCALENDAR
